BEGIN:VCALENDAR
VERSION:2.0
PRODID:-//Statewide Workforce Development - ECPv6.15.17.1//NONSGML v1.0//EN
CALSCALE:GREGORIAN
METHOD:PUBLISH
X-ORIGINAL-URL:https://www.floridaroadjobs.com
X-WR-CALDESC:Events for Statewide Workforce Development
REFRESH-INTERVAL;VALUE=DURATION:PT1H
X-Robots-Tag:noindex
X-PUBLISHED-TTL:PT1H
BEGIN:VTIMEZONE
TZID:America/New_York
BEGIN:DAYLIGHT
TZOFFSETFROM:-0500
TZOFFSETTO:-0400
TZNAME:EDT
DTSTART:20250309T070000
END:DAYLIGHT
BEGIN:STANDARD
TZOFFSETFROM:-0400
TZOFFSETTO:-0500
TZNAME:EST
DTSTART:20251102T060000
END:STANDARD
BEGIN:DAYLIGHT
TZOFFSETFROM:-0500
TZOFFSETTO:-0400
TZNAME:EDT
DTSTART:20260308T070000
END:DAYLIGHT
BEGIN:STANDARD
TZOFFSETFROM:-0400
TZOFFSETTO:-0500
TZNAME:EST
DTSTART:20261101T060000
END:STANDARD
BEGIN:DAYLIGHT
TZOFFSETFROM:-0500
TZOFFSETTO:-0400
TZNAME:EDT
DTSTART:20270314T070000
END:DAYLIGHT
BEGIN:STANDARD
TZOFFSETFROM:-0400
TZOFFSETTO:-0500
TZNAME:EST
DTSTART:20271107T060000
END:STANDARD
END:VTIMEZONE
BEGIN:VEVENT
DTSTART;VALUE=DATE:20260218
DTEND;VALUE=DATE:20260220
DTSTAMP:20260421T044346
CREATED:20260205T182139Z
LAST-MODIFIED:20260205T182139Z
UID:31329-1771372800-1771545599@www.floridaroadjobs.com
SUMMARY:2026 Northwest Florida CCD
DESCRIPTION:
URL:https://www.floridaroadjobs.com/event/2026-northwest-florida-ccd/
LOCATION:Santa Rosa County Fairgrounds\, 8700 Randy Brown Road\, Milton\, FL\, 32583
ATTACH;FMTTYPE=image/png:https://2380-2-swwfd-media.nyc3.digitaloceanspaces.com/wp-content/uploads/2026/02/05131705/Screenshot-2026-02-05-131644.png
END:VEVENT
BEGIN:VEVENT
DTSTART;TZID=America/New_York:20260218T100000
DTEND;TZID=America/New_York:20260218T130000
DTSTAMP:20260421T044346
CREATED:20260205T181423Z
LAST-MODIFIED:20260205T181423Z
UID:31327-1771408800-1771419600@www.floridaroadjobs.com
SUMMARY:CDC of Tampa Spring Hiring Event
DESCRIPTION:  \n  \nTampa Vocational Institute\n2605 N. 43rd Street\nTampa\, FL 33605 \nDate: February 18\, 2026\nTime: 10:00 a.m. – 1:00 p.m. \nNetworking and set up: 9-10:00 p.m. \nContinental Breakfast and Lunch: Provided
URL:https://www.floridaroadjobs.com/event/cdc-of-tampa-spring-hiring-event/
LOCATION:Tampa Vocational Institute\, 2605 N 43rd St.\, Tampa\, FL\, 33605\, United States
ATTACH;FMTTYPE=image/png:https://2380-2-swwfd-media.nyc3.digitaloceanspaces.com/wp-content/uploads/2026/02/05131322/Screenshot-2026-02-05-131258.png
END:VEVENT
END:VCALENDAR